BEGIN:VCALENDAR
VERSION:2.0
PRODID:-//eventon.com NONSGML v1.0//EN
BEGIN:VEVENT
UID:69ed5851d980e
DTSTAMP:20260425T191201
DTSTART:20190502T133000Z
DTEND:20190502T220000Z
LOCATION:Formation Continue de l'Université Laval 
SUMMARY:Parler en public
DESCRIPTION: Selon La Presse Canadienne\,  Parler en public est la pire crainte des Canadiens. Dans le cadre de vos responsabilités\,  vous devez parfois agir comme animateur ou conférencier. Vous vivez du stress avant\,  pendant et après votre présentation ? Que diriez-vous de parler en public avec facilité ? ● Comment transmettre vos[..]
END:VEVENT
END:VCALENDAR